BEGIN:VCALENDAR
VERSION:2.0
PRODID:-//Learn-Exa - ECPv6.15.17.1//NONSGML v1.0//EN
CALSCALE:GREGORIAN
METHOD:PUBLISH
X-ORIGINAL-URL:https://learn-exa.com/ar
X-WR-CALDESC:Events for Learn-Exa
REFRESH-INTERVAL;VALUE=DURATION:PT1H
X-Robots-Tag:noindex
X-PUBLISHED-TTL:PT1H
BEGIN:VTIMEZONE
TZID:Asia/Dubai
BEGIN:STANDARD
TZOFFSETFROM:+0400
TZOFFSETTO:+0400
TZNAME:+04
DTSTART:20250101T000000
END:STANDARD
END:VTIMEZONE
BEGIN:VEVENT
DTSTART;TZID=Asia/Dubai:20260414T080000
DTEND;TZID=Asia/Dubai:20260421T170000
DTSTAMP:20260424T172133
CREATED:20260414T125046Z
LAST-MODIFIED:20260419T200418Z
UID:2533-1776153600-1776790800@learn-exa.com
SUMMARY:Empowering Educators: Modern Teaching Strategies for the 21st Century Classroom
DESCRIPTION:The education landscape is changing faster than ever — and the teachers who shape it must change with it. Learnexa Hub is proud to present Empowering Educators\, a full-day professional development workshop crafted exclusively for teachers\, school leaders\, and academic coordinators across the UAE. \nThis workshop goes beyond theory. Participants will engage in hands-on sessions\, collaborative activities\, and real-classroom case studies that translate directly into better teaching practice. From differentiated instruction and student engagement techniques to incorporating EdTech tools and managing diverse learning needs\, every session is designed to be immediately applicable in the classroom. \nWhether you are a newly qualified teacher finding your footing or a seasoned educator looking to refresh your approach\, this workshop offers something meaningful at every level of experience.
URL:https://learn-exa.com/ar/event/empowering-educators-modern-teaching-strategies-for-the-21st-century-classroom/
LOCATION:Auditorium 1\, Burj Khalifa\, Dubai\, United Arab Emirates
CATEGORIES:MUN conferences,Teacher training workshop
END:VEVENT
END:VCALENDAR